BEGIN:VCALENDAR
VERSION:2.0
PRODID:-//Perpustakaan Fakultas Teknik Unjani - ECPv6.15.20//NONSGML v1.0//EN
CALSCALE:GREGORIAN
METHOD:PUBLISH
X-WR-CALNAME:Perpustakaan Fakultas Teknik Unjani
X-ORIGINAL-URL:https://libraryft.unjani.ac.id
X-WR-CALDESC:Events for Perpustakaan Fakultas Teknik Unjani
REFRESH-INTERVAL;VALUE=DURATION:PT1H
X-Robots-Tag:noindex
X-PUBLISHED-TTL:PT1H
BEGIN:VTIMEZONE
TZID:Asia/Jakarta
BEGIN:STANDARD
TZOFFSETFROM:+0700
TZOFFSETTO:+0700
TZNAME:WIB
DTSTART:20230101T000000
END:STANDARD
END:VTIMEZONE
BEGIN:VEVENT
DTSTART;TZID=Asia/Jakarta:20241114T120000
DTEND;TZID=Asia/Jakarta:20241115T230000
DTSTAMP:20260424T034835
CREATED:20241101T064316Z
LAST-MODIFIED:20241119T065920Z
UID:8863-1731585600-1731711600@libraryft.unjani.ac.id
SUMMARY:SLiMS Community Meet Up 2024
DESCRIPTION:SLiMS Community Meetup (Commeet) 2024  \nSetelah terakhir kali digelar pada tahun 2019 di Lampung\, SLiMS Commeet hadir kembali dengan kegiatan Seminar Nasional dan Workshop yang akan dilaksanakan di Bandung. SLiMS Commeet 2024 kali ini merupakan kegiatan kerja sama antara SLiMS Developers Community (SDC) dengan Program Studi Perpustakaan dan Sains Informasi (PSPI) Universitas Pendidikan Indonesia. \nSLiMS Commeet 2024 kali ini mengusung tema “Membangun Ekosistem Perpustakaan Indonesia: Adaptasi dan Adopsi Standar dan Teknologi Terbuka Berbasis Keterlibatan Masyarakat”. \nAdapun kegiatan yang akan dilaksanakan pada SLiMS Commeet 2024 antara lain: \n\nPanel Seminar yang akan diisi oleh para pemateri hebat\, yaitu founder dan developer SLiMS\, wakil dari instansi pemerintah\, Perpustakaan Nasional RI\, dan pustakawan pemenang lomba Inovasi Perpustakaan Perguruan Tinggi Nasional tahun 2024.\nWorkshop yang akan dibawakan oleh tim SLiMS Developers Community (SDC).\nKlinik SLiMS\, yang dapat membantu anda apabila SLiMS anda memiliki masalah.\n\nKegiatan SLiMS Commeet 2024 ini akan diselenggarakan pada: \n\n 14-15 November 2024\n Universitas Pendidikan Indonesia\, Bandung\n\nYuk\, kita bertemu dan berkumpul bersama di kegiatan SLiMS Commeet 2024! Banyak hal yang bisa kita diskusikan mengenai teknologi dan perpustakaan\, langsung dengan tim SDC dan komunitas pengguna SLiMS se-Indonesia! \nSegera daftarkan diri anda pada link berikut ini: \n\nhttps://bit.ly/pendaftaran-peserta-slims-commeet-2024-official\n\nInformasi Kegiatan: \n\nhttps://pspi.upi.edu/slims-commeet-2024/\n\nBiaya pendaftaran ditransfer melalui no. rekening di bawah ini: \n\n6755778536 BCA a.n Asheila Luthfita\n1817767882 BNI a.n Anisa Oktafiani Futri\n\n Contact Person: \n\nAisha Diandra 085862774244\nAnisa Oktafiani 0895414764752
URL:https://libraryft.unjani.ac.id/event/slims-community-meet-up-2024/
LOCATION:FIP UPI Bandung\, Jl. Dr. Setiabudhi No. 229 Bandung\, Bandung\, Jawa Barat\, 40154\, Indonesia
CATEGORIES:Seminar Nasional,Workshop
ATTACH;FMTTYPE=image/jpeg:https://libraryft.unjani.ac.id/wp-content/uploads/2024/11/SLIMS-COMMET-2024.jpeg
END:VEVENT
END:VCALENDAR