BEGIN:VCALENDAR
VERSION:2.0
PRODID:-//Perpustakaan Fakultas Teknik Unjani - ECPv6.15.20//NONSGML v1.0//EN
CALSCALE:GREGORIAN
METHOD:PUBLISH
X-WR-CALNAME:Perpustakaan Fakultas Teknik Unjani
X-ORIGINAL-URL:https://libraryft.unjani.ac.id
X-WR-CALDESC:Events for Perpustakaan Fakultas Teknik Unjani
REFRESH-INTERVAL;VALUE=DURATION:PT1H
X-Robots-Tag:noindex
X-PUBLISHED-TTL:PT1H
BEGIN:VTIMEZONE
TZID:UTC
BEGIN:STANDARD
TZOFFSETFROM:+0000
TZOFFSETTO:+0000
TZNAME:UTC
DTSTART:20200101T000000
END:STANDARD
END:VTIMEZONE
BEGIN:VTIMEZONE
TZID:Asia/Jakarta
BEGIN:STANDARD
TZOFFSETFROM:+0700
TZOFFSETTO:+0700
TZNAME:WIB
DTSTART:20200101T000000
END:STANDARD
END:VTIMEZONE
BEGIN:VEVENT
DTSTART;TZID=UTC:20211228T170000
DTEND;TZID=UTC:20211228T180000
DTSTAMP:20260424T021332
CREATED:20211227T025300Z
LAST-MODIFIED:20211227T025300Z
UID:4822-1640710800-1640714400@libraryft.unjani.ac.id
SUMMARY:Webinar Nasional "Literasi Digital"
DESCRIPTION:Proudly Present \nHalo Sobat Literasi!\nDalam rangka memperingati berdirinya Komunitas Rumah Literasi yang ke-2\, kami pengurus Rumah Literasi akan mengadakan event yang sangat luar biasa yaitu FESTIVAL RUMAH LITERASI “Meningkatkan Budaya Literasi untuk Pengembangan Diri dan Mewujudkan Pendidikan di Era Digital” yang berisi rangkaian kegiatan berupa Talkshow\, Webinar\, dan Festival dengan speaker hebat dan penampilan Guest Star yang keren abis. So\, tunggu apa lagi segera daftarkan diri kalian melalui link yg telah disediakan. \n📌 Webinar Nasional “Literasi Digital”\nHari\, Tanggal : Selasa\, 28 Desember 2021\nWaktu : 15.00 WIB – Selesai\nTempat : Zoom Meetings \nBenefit\n1. E-Sertifikat\n2. Pengetahuan\n3. Networking\n4. Doorprize (*bagi yang beruntung) \nLink Pendaftaran : https://bit.ly/RegistFestivalRumahLiterasi \nContact Person:\nVanissia (089637121796)\nSania (085333706651)
URL:https://libraryft.unjani.ac.id/event/webinar-nasional-literasi-digital/
LOCATION:Zoom Meeting
CATEGORIES:Webinar
ATTACH;FMTTYPE=image/png:https://libraryft.unjani.ac.id/wp-content/uploads/2021/12/www.instagram.com_p_CX0k8blBOIm_-e1640584545810-1-e1641308561673.png
END:VEVENT
BEGIN:VEVENT
DTSTART;TZID=UTC:20211228T100000
DTEND;TZID=UTC:20211230T130000
DTSTAMP:20260424T021332
CREATED:20191227T020054Z
LAST-MODIFIED:20191227T020054Z
UID:5076-1640685600-1640869200@libraryft.unjani.ac.id
SUMMARY:Nobar Film Gratis Bulan Desember di Perpustakaan Nasional RI
DESCRIPTION:Perpusnas kembali mengadakan event seru perpustakaan yaitu “Nobar Film Gratis Bulan Desember di Perpustakaan Nasional RI”  Berikut jadwal nobar di Perpusnas RI Bulan Desember 2021 \n28 Desember 2021\nPukul 10.00 WIB &\nPukul 13.00 WIB: Brave (R) \n30 Desember 2021\nPukul 10.00 WIB &\nPukul 13.00 WIB: Zootopia (SU) \nKategori Film:\nSU= Semua Umur\nR= Remaja\nD= Dewasa\nR-D= Remaja-Dewasa\nBO= Bimbingan Orang Tua \nGratis.\nTerbatas untuk 20 orang\nTeater Mini Ruang Audio Visual Lantai 8\nPerpustakaan Nasional\nJl. Medan Merdeka Selatan No. 11\, Jakarta Pusat \nRegistrasi:\nVia WA: Layanan Teater Mini (08568773370) Format: Nobar#Nama#JenisKelamin#JudulFilm#PilihanJamNobar \nPeserta Nobar wajib scan QR Code Peduli Lindungi di Pintu Masuk Perpustakaan Nasional
URL:https://libraryft.unjani.ac.id/event/nobarfilm_perpusnas-2/
LOCATION:Teater Mini Ruang Audio Visual Lantai 8\, Jl. Medan Merdeka Selatan No. 11\, Jakarta Pusat\, Jakarta Pusat\, DKI Jakarta
CATEGORIES:Hiburan
ATTACH;FMTTYPE=image/png:https://libraryft.unjani.ac.id/wp-content/uploads/2019/07/www.instagram.com_p_CX99UXgvd8Y_-e1640573428905-1.png
END:VEVENT
BEGIN:VEVENT
DTSTART;TZID=UTC:20211227T193000
DTEND;TZID=UTC:20211227T193000
DTSTAMP:20260424T021332
CREATED:20211224T020042Z
LAST-MODIFIED:20211224T020042Z
UID:4806-1640633400-1640633400@libraryft.unjani.ac.id
SUMMARY:Temu Alumni Virtual Teknik Kimia
DESCRIPTION:Hai Alumni Teknik Kimia Unjani. Yuk ikut ramaikan Acara Temu Alumni secara Virtual melalui Zoom Meeting. \nPada Hari Senin\, 27 Desember 2021 \nPukul 19.30 Wib s.d Selesai \nMore info DM ke @tkunjaniofficial \n 
URL:https://libraryft.unjani.ac.id/event/temu-alumni-virtual-teknik-kimia/
LOCATION:Zoom Meeting
CATEGORIES:Webinar
ATTACH;FMTTYPE=image/jpeg:https://libraryft.unjani.ac.id/wp-content/uploads/2021/12/WhatsApp-Image-2021-12-27-at-10.55.12-1.jpeg
END:VEVENT
BEGIN:VEVENT
DTSTART;TZID=UTC:20211227T150000
DTEND;TZID=UTC:20211227T170000
DTSTAMP:20260424T021332
CREATED:20211224T004736Z
LAST-MODIFIED:20211224T004736Z
UID:4817-1640617200-1640624400@libraryft.unjani.ac.id
SUMMARY:Talkshow Rumah Literasi "Literasi Sebagai Media Pegembangan Diri"
DESCRIPTION:Proudly Present \nHalo Sobat Literasi!\nDalam rangka memperingati berdirinya Komunitas Rumah Literasi yang ke-2\, kami pengurus Rumah Literasi akan mengadakan event yang sangat luar biasa yaitu FESTIVAL RUMAH LITERASI “Meningkatkan Budaya Literasi untuk Pengembangan Diri dan Mewujudkan Pendidikan di Era Digital” yang berisi rangkaian kegiatan berupa Talkshow\, Webinar\, dan Festival dengan speaker hebat dan penampilan Guest Star yang keren abis. So\, tunggu apa lagi segera daftarkan diri kalian melalui link yg telah disediakan. \n📌Talkshow “Literasi Sebagai Media Pengembangan Diri”\nHari\, Tanggal : Senin\, 27 Desember 2021\nWaktu : 15.00 WIB – Selesai\nTempat : Zoom Meetings \nBenefit\n1. E-Sertifikat\n2. Pengetahuan\n3. Networking\n4. Doorprize (*bagi yang beruntung) \nLink Pendaftaran : https://bit.ly/RegistFestivalRumahLiterasi \nContact Person:\nVanissia (089637121796)\nSania (085333706651)
URL:https://libraryft.unjani.ac.id/event/talkshow-rumah-literasi-literasi-sebagai-media-pegembangan-diri/
LOCATION:Zoom Meeting
CATEGORIES:Webinar
ATTACH;FMTTYPE=image/png:https://libraryft.unjani.ac.id/wp-content/uploads/2021/12/www.instagram.com_p_CXz-WR1hWul_-e1640584235499-1.png
END:VEVENT
BEGIN:VEVENT
DTSTART;VALUE=DATE:20211221
DTEND;VALUE=DATE:20211227
DTSTAMP:20260424T021332
CREATED:20211220T030719Z
LAST-MODIFIED:20211220T030719Z
UID:5077-1640044800-1640563199@libraryft.unjani.ac.id
SUMMARY:Nobar Film Gratis Bulan Desember di Perpusnas
DESCRIPTION:Berikut jadwal nobar di Perpusnas RI Bulan Desember 2021 \n21 Desember 2021\nPukul 10.00 WIB &\nPukul 13.00 WIB: Bears (SU) \n23 Desember 2021\nPukul 10.00 WIB &\nPukul 13.00 WIB: A Christmas Carol (R) \n26 Desember 2021\nPukul 10.00 WIB &\nPukul 13.00 WIB: The Polar Express (R) \nKategori Film:\nSU= Semua Umur\nR= Remaja\nD= Dewasa\nR-D= Remaja-Dewasa\nBO= Bimbingan Orang Tua \nGratis.\nTerbatas untuk 20 orang\nTeater Mini Ruang Audio Visual Lantai 8\nPerpustakaan Nasional\nJl. Medan Merdeka Selatan No. 11\, Jakarta Pusat \nRegistrasi:\nVia WA: Layanan Teater Mini (08568773370) Format: Nobar#Nama#JenisKelamin#JudulFilm#PilihanJamNobar \nPeserta Nobar wajib scan QR Code Peduli Lindungi di Pintu Masuk Perpustakaan Nasional
URL:https://libraryft.unjani.ac.id/event/nobarfilm_perpusnas/
LOCATION:Teater Mini Ruang Audio Visual Lantai 8\, Jl. Medan Merdeka Selatan No. 11\, Jakarta Pusat\, Jakarta Pusat\, DKI Jakarta
CATEGORIES:Hiburan
ATTACH;FMTTYPE=image/png:https://libraryft.unjani.ac.id/wp-content/uploads/2021/12/www.instagram.com_p_CXsEqt7vJkP_-e1640332936993-1.png
END:VEVENT
BEGIN:VEVENT
DTSTART;TZID=UTC:20211220T123000
DTEND;TZID=UTC:20211220T160000
DTSTAMP:20260424T021332
CREATED:20211220T020847Z
LAST-MODIFIED:20211220T020847Z
UID:5075-1640003400-1640016000@libraryft.unjani.ac.id
SUMMARY:E-Reseources Perpustakaan Nasional Mendukung Kampus Merdeka
DESCRIPTION:Perpustakaan Nasional telah melanggan E-Resources\, pangkalan data jurnal dan publikasi ilmiah international seperti Proquest\, EBSCO\, Science Direct\, Westlaw\, dll\, yang dapat dimanfaatkan civitas akademik di seluruh Indonesia. Sebagai salah satu bentuk dukungan Perpustakaan Nasional pada program Kampus Merdeka\, Perpustakaan Nasional akan menyelenggarakan webinar dengan tema “E-Resources Perpustakaan Nasional Mendukung Kampus Merdeka” \nOpening Speech:\nKepala Perpustakaan Nasional RI\nMuhammad Syarif Bando \nKeynote Speech:\nPlt. Direktur Jenderal Pendidikan Tinggi\, Riset\, dan Teknologi\nKementerian Pendidikan\, Riset\, dan Teknologi\nProf. Ir. Nizam\, M.Sc.\, DIC.\, Ph.D.\, IPU\, ASEAN ENG \nNarasumber:\nKetua Forum Rektor\nProf. Ir. Panut Mulyono\, M.Eng.\, D.Eng.\, IPU\, ASEAN ENG \nRektor Universitas Teknologi Sumbawa\nChairul Hudaya\, Ph.D \nDirektur Perpustakaan Universitas Surabaya\nAmirul Ulum\, S.Sos.\, M.IP \nModerator\nForum Perguruan Perpustakaan Perguruan Tinggi Indonesia (FPPTI)\nNovy Diana Fauzie \nCatat waktunya:\n🗓Senin\, 20 Desember 2022\n⏰Pukul 12.30 – 16.00 WIB \nUntuk mengikuti acara tersebut\, #Sahabat Perpusnas tidak perlu mendaftar. Silakan bergabung melalui: \nLink: s.id/e-Resources\nID: 845 2939 9711\nPasscode: eresources\nStreaming Youtube: Perpustakaan Nasional RI \nTerbuka untuk umum dengan kuota 5.000 peserta dan gratis. \nNarahubung:\nSuryadi – 0813-2768-5033 \nSalam Literasi.
URL:https://libraryft.unjani.ac.id/event/webinar_e-reseourcesperpusnas/
CATEGORIES:Webinar
ATTACH;FMTTYPE=image/png:https://libraryft.unjani.ac.id/wp-content/uploads/2021/12/www.instagram.com_p_CXnO7EyPuk9_-e1640331892626-1.png
END:VEVENT
BEGIN:VEVENT
DTSTART;TZID=UTC:20211216T083000
DTEND;TZID=UTC:20211216T223000
DTSTAMP:20260424T021332
CREATED:20211214T032654Z
LAST-MODIFIED:20211214T032654Z
UID:5078-1639643400-1639693800@libraryft.unjani.ac.id
SUMMARY:Penguatan Peran Pustakawan dalam Mendukung Literasi digital Indonesia
DESCRIPTION:Perpustakaan Nasional RI bekerjasama dengan Perkumpulan ISIPII (Ikatan Sarjana Ilmu Perpustakaan dan Informasi Indonesia) Menyelenggarakan Webinar Nasional secara daring:\n💡Penguatan Peran Pustakawan Dalam Mendukung Literasi Digital Nasional \n🗒️Kamis 16 Desember 2021\, via Zoom\n⏰08. 30 – 11.30 WIB \nMasifnya pertumbuhan produksi serta diseminasi informasi di era digital saat ini membawa tuntutan langsung akan kebutuhan masyarakat dalam menganalisa dan mengevaluasi informasi. Informasi yang tepat\, akurat dan relevan adalah keniscayaan bagi individu dalam mengambil keputusan yang bermutu. Peran pustakawan pada penguatan budaya literasi di masyarakat\, dalam hal ini utamanya literasi digital diharapkan mampu mendedah kebutuhan di masyarakat\, menuju masyarakat berpengetahuan bukan melulu tentang akses teknologi yang tersedia namun juga kecakapan mengelolanya. \n🖊️Kata Sambutan\nMuhammad Syarif Bando\nKepala Perpustakaan Nasional RI \n🖊️Narasumber\n1. Semuel Abrijani Pangerapan\nDirektur Jenderal Aplikasi Informatika Kementerian Komunikasi dan Informatika \n2. Eine Ayu Saraswati\nKetua Perkumpulan – Ikatan Sarjana Ilmu Perpustakaan dan Informasi Indonesia (ISIPII) \n3. Kalarensi Naibaho\nPustakawan Universitas Indonesia \n4. Nasirullah Sitam\nPustakawan Universitas Gadjah Mada \n📝Moderator\nAjeng Ayu\nPustakawan Telkom University \nTautan zoom acara ini:\nhttps://s.id/peranpustakawan\n▪️ID: 898 9453 3610\n▪️passcode: literasi21\nNarahubung: Suryadi – 081327685033
URL:https://libraryft.unjani.ac.id/event/literasidigital_perpusnas/
CATEGORIES:Webinar
ATTACH;FMTTYPE=image/png:https://libraryft.unjani.ac.id/wp-content/uploads/2021/12/www.instagram.com_p_CXdq5ToPTRD_-e1640332257426-1.png
END:VEVENT
BEGIN:VEVENT
DTSTART;TZID=Asia/Jakarta:20210910T090000
DTEND;TZID=Asia/Jakarta:20210910T110000
DTSTAMP:20260424T021332
CREATED:20210909T030544Z
LAST-MODIFIED:20220105T131432Z
UID:5926-1631264400-1631271600@libraryft.unjani.ac.id
SUMMARY:Berwirausaha Tanpa Meninggalkan Kuliah Di Teknik Kimia Universitas Jenderal Achmad Yani
DESCRIPTION:IT’S TOMORROW !!! \nBREAKFAST eps 6 IT’S COMINGGGG!!\nBincang Asik Fakultas Lewat Podcast\nYang Kepo tentang fakultas-fakultas yang ada di Universitas Jenderal Achmad Yani\, terutama yang Kepo dengan jurusan Teknik Kimia 😉\nJangan lupa besok tonton BREAKFAST !!\nTema ” Berwirausaha Tanpa Meninggalkan Kuliah Di Teknik Kimia Universitas Jenderal Achmad Yani ” \nYuuu jangan sampai kelewatan\, ditunggu yaa di live IGnya @pmbunjani . Sampai bertemu Tanggal 10 September !! 👋🏻 \nMore info\nIG : @pmbunjani\nFB : admisipmbunjani\nWA : 0811 249 7890 / 0811 249 7899
URL:https://libraryft.unjani.ac.id/event/berwirausaha-tanpa-meninggalkan-kuliah-di-teknik-kimia-universitas-jenderal-achmad-yani/
LOCATION:Zoom Meeting
CATEGORIES:Webinar
ATTACH;FMTTYPE=image/png:https://libraryft.unjani.ac.id/wp-content/uploads/2022/01/Webinar-Tekim.png
END:VEVENT
END:VCALENDAR